BEGIN:VCALENDAR
VERSION:2.0
PRODID:-//wp-events-plugin.com//7.2.3.1//EN
TZID:Europe/Berlin
X-WR-TIMEZONE:Europe/Berlin
BEGIN:VEVENT
UID:7@nabu-weinheim.de
DTSTART;TZID=Europe/Berlin:20260509T093000
DTEND;TZID=Europe/Berlin:20260509T120000
DTSTAMP:20260405T064125Z
URL:https://www.nabu-weinheim.de/events/kroetenrettereinsatz-am-schlosstei
 ch-weinheim/
SUMMARY:Krötenrettereinsatz am Schloßteich Weinheim
DESCRIPTION:Etwa im Mai und Juni verlassen die sog. Hüpferlinge\, die winz
 igen Baby-Frösche und -Kröten\, den Schloßparkteich\, um in ihren Land
 lebensraum im Exotenwald zu wandern.\nAm 09. Mai bauen wir wieder gemeinsa
 m einen Fangzaun rund um den Schloßparkteich auf\, um die Hüpferlinge au
 f ihrer Reise vor dem unbeabsichtigten Zertreten im Park und Austrocknen a
 uf dem Asphalt zu schützen. Die Tiere werden dann in den folgenden Wochen
  von freiwillligen Helfern täglich mehrmals aus den Sammeleimern am Zaun 
 geholt und sicher in den nahen Exotenwald gebracht.\n\nFür den Zaunaufbau
  starten um 9:30 Uhr. Treffpunkt ist der Teich im Schloßpark. Es werden n
 ur wetter- und arbeitsangepasste Kleidung\, Gartenhandschuhe und ggf. Sonn
 enschutz benötigt.\nWerkzeuge und Geräte werden gestellt. Gerne können 
 aber auch zusätzlich noch eigene Werkzeuge wie Spaten\, Schaufel\, Spitzh
 acke\, Rasenkantenstecher\, Gartenschere\, Zange\, (Akku-)Heckenschere\, T
 acker mitgebracht werden.\nGetränke (Wasser\, Tee\, Kaffee) und Brezeln w
 erden ebenfalls gestellt.\nDie Aktion wird ca. 3 - 4 Stunden dauern.\n\n\n
 Es ist allerdings zu beachten\, dass die Arbeiten zum Zaunaufbau überwieg
 end nicht für (kleine) Kinder geeignet sind\, da es sich ausschließlich 
 um körperliche und handwerkliche Tätigkeiten mit Nutzung größerer Gart
 engeräte/Werkzeuge handelt. Ab ca. 10-12 Jahren können die Kinder ein pa
 ar leichtere Arbeiten übernehmen wie z.B. Rindenmulch auslegen oder den Z
 aun am Boden mit Erde abdichten. Diese Tätigkeiten finden aber erst am En
 de der Aktion statt\, wenn die meiste Arbeit schon erledigt ist. Natürlic
 h sind trotzdem auch Familien mit Kindern willkommen zum Zuschauen oder um
  sich zu informieren.
ATTACH;FMTTYPE=image/jpeg:https://www.nabu-weinheim.de/wp-content/uploads/
 2026/02/20240525_115820-scaled-e1770387764959.jpg
END:VEVENT
BEGIN:VTIMEZONE
TZID:Europe/Berlin
X-LIC-LOCATION:Europe/Berlin
BEGIN:DAYLIGHT
DTSTART:20260329T030000
TZOFFSETFROM:+0100
TZOFFSETTO:+0200
TZNAME:CEST
END:DAYLIGHT
END:VTIMEZONE
END:VCALENDAR